Package: karyoploteR Version: 1.35.3 Command: rm -rf karyoploteR.buildbin-libdir && mkdir karyoploteR.buildbin-libdir && F:\biocbuild\bbs-3.22-bioc\R\bin\R.exe CMD INSTALL --build --library=karyoploteR.buildbin-libdir karyoploteR_1.35.3.tar.gz StartedAt: 2025-08-15 10:33:25 -0400 (Fri, 15 Aug 2025) EndedAt: 2025-08-15 10:36:26 -0400 (Fri, 15 Aug 2025) EllapsedTime: 180.1 seconds RetCode: 0 Status: OK PackageFile: karyoploteR_1.35.3.zip PackageFileSize: 1.438 MiB