Package: jazzPanda Version: 1.1.1 Command: /home/biocbuild/R/R/bin/R CMD INSTALL jazzPanda StartedAt: 2025-10-02 20:42:48 -0000 (Thu, 02 Oct 2025) EndedAt: 2025-10-02 20:43:29 -0000 (Thu, 02 Oct 2025) EllapsedTime: 41.6 seconds RetCode: 0 Status: OK