Package: jazzPanda Version: 1.1.1 Command: /home/biocbuild/R/R/bin/R CMD check --install=check:jazzPanda.install-out.txt --library=/home/biocbuild/R/R/site-library --no-vignettes --timings jazzPanda_1.1.1.tar.gz StartedAt: 2025-10-03 08:25:05 -0000 (Fri, 03 Oct 2025) EndedAt: 2025-10-03 08:34:14 -0000 (Fri, 03 Oct 2025) EllapsedTime: 548.8 seconds RetCode: 1 Status: ERROR CheckDir: jazzPanda.Rcheck Warnings: NA