Package: jazzPanda Version: 1.1.1 Command: F:\biocbuild\bbs-3.22-bioc\R\bin\R.exe CMD INSTALL jazzPanda StartedAt: 2025-07-20 16:47:02 -0400 (Sun, 20 Jul 2025) EndedAt: 2025-07-20 16:47:47 -0400 (Sun, 20 Jul 2025) EllapsedTime: 45.1 seconds RetCode: 0 Status: OK