Package: jazzPanda Version: 1.1.1 Command: F:\biocbuild\bbs-3.22-bioc\R\bin\R.exe CMD check --no-multiarch --install=check:jazzPanda.install-out.txt --library=F:\biocbuild\bbs-3.22-bioc\R\library --no-vignettes --timings jazzPanda_1.1.1.tar.gz StartedAt: 2025-07-21 03:21:55 -0400 (Mon, 21 Jul 2025) EndedAt: 2025-07-21 03:30:57 -0400 (Mon, 21 Jul 2025) EllapsedTime: 541.8 seconds RetCode: 0 Status: OK CheckDir: jazzPanda.Rcheck Warnings: 0