Package: jazzPanda Version: 1.1.1 Command: chmod a+r jazzPanda -R && F:\biocbuild\bbs-3.22-bioc\R\bin\R.exe CMD build --keep-empty-dirs --no-resave-data jazzPanda StartedAt: 2025-07-20 19:53:54 -0400 (Sun, 20 Jul 2025) EndedAt: 2025-07-20 19:58:46 -0400 (Sun, 20 Jul 2025) EllapsedTime: 292.0 seconds RetCode: 0 Status: OK PackageFile: jazzPanda_1.1.1.tar.gz PackageFileSize: 2.08 MiB