Package: ivygapSE Version: 1.31.0 Command: /home/biocbuild/R/R/bin/R CMD INSTALL ivygapSE StartedAt: 2025-07-14 20:31:55 -0000 (Mon, 14 Jul 2025) EndedAt: 2025-07-14 20:32:28 -0000 (Mon, 14 Jul 2025) EllapsedTime: 33.1 seconds RetCode: 0 Status: OK