Package: ivygapSE Version: 1.31.0 Command: /home/biocbuild/R/R/bin/R CMD build --keep-empty-dirs --no-resave-data ivygapSE StartedAt: 2025-07-15 00:29:57 -0000 (Tue, 15 Jul 2025) EndedAt: 2025-07-15 00:32:35 -0000 (Tue, 15 Jul 2025) EllapsedTime: 158.1 seconds RetCode: 0 Status: OK PackageFile: ivygapSE_1.31.0.tar.gz PackageFileSize: 14.88 MiB