Package: ivygapSE Version: 1.31.0 Command: chmod a+r ivygapSE -R && F:\biocbuild\bbs-3.22-bioc\R\bin\R.exe CMD build --keep-empty-dirs --no-resave-data ivygapSE StartedAt: 2025-07-20 19:53:31 -0400 (Sun, 20 Jul 2025) EndedAt: 2025-07-20 19:56:12 -0400 (Sun, 20 Jul 2025) EllapsedTime: 160.9 seconds RetCode: 0 Status: OK PackageFile: ivygapSE_1.31.0.tar.gz PackageFileSize: 15.28 MiB