Package: ivygapSE Version: 1.31.0 Command: /home/biocbuild/bbs-3.22-bioc/R/bin/R CMD check --install=check:ivygapSE.install-out.txt --library=/home/biocbuild/bbs-3.22-bioc/R/site-library --timings ivygapSE_1.31.0.tar.gz StartedAt: 2025-07-04 23:22:57 -0400 (Fri, 04 Jul 2025) EndedAt: 2025-07-04 23:28:01 -0400 (Fri, 04 Jul 2025) EllapsedTime: 304.3 seconds RetCode: 0 Status: OK CheckDir: ivygapSE.Rcheck Warnings: 0