Package: ivygapSE Version: 1.31.0 Command: /home/biocbuild/bbs-3.22-bioc/R/bin/R CMD build --keep-empty-dirs --no-resave-data --md5 ivygapSE StartedAt: 2025-07-02 17:58:19 -0400 (Wed, 02 Jul 2025) EndedAt: 2025-07-02 18:00:25 -0400 (Wed, 02 Jul 2025) EllapsedTime: 126.1 seconds RetCode: 0 Status: OK PackageFile: ivygapSE_1.31.0.tar.gz PackageFileSize: 15.44 MiB