Package: ivygapSE Version: 1.31.0 Command: /Library/Frameworks/R.framework/Resources/bin/R CMD check --install=check:ivygapSE.install-out.txt --library=/Library/Frameworks/R.framework/Resources/library --no-vignettes --timings ivygapSE_1.31.0.tar.gz StartedAt: 2025-07-07 21:28:39 -0400 (Mon, 07 Jul 2025) EndedAt: 2025-07-07 21:32:30 -0400 (Mon, 07 Jul 2025) EllapsedTime: 231.2 seconds RetCode: 0 Status: OK CheckDir: ivygapSE.Rcheck Warnings: 0