Package: ivygapSE Version: 1.31.0 Command: /Library/Frameworks/R.framework/Resources/bin/R CMD build --keep-empty-dirs --no-resave-data ivygapSE StartedAt: 2025-07-02 17:13:53 -0400 (Wed, 02 Jul 2025) EndedAt: 2025-07-02 17:16:13 -0400 (Wed, 02 Jul 2025) EllapsedTime: 140.6 seconds RetCode: 0 Status: OK PackageFile: ivygapSE_1.31.0.tar.gz PackageFileSize: 15.35 MiB