Package: ivygapSE Version: 1.31.0 Command: rm -rf ivygapSE.buildbin-libdir && mkdir ivygapSE.buildbin-libdir && /Users/biocbuild/BBS/utils/build-universal.sh ivygapSE_1.31.0.tar.gz /Library/Frameworks/R.framework/Resources/bin/R ivygapSE.buildbin-libdir StartedAt: 2025-07-03 00:50:23 -0400 (Thu, 03 Jul 2025) EndedAt: 2025-07-03 00:51:00 -0400 (Thu, 03 Jul 2025) EllapsedTime: 37.3 seconds RetCode: 0 Status: OK PackageFile: ivygapSE_1.31.0.tgz PackageFileSize: 15.38 MiB