Package: ivygapSE Version: 1.31.0 Command: /Library/Frameworks/R.framework/Resources/bin/R CMD INSTALL ivygapSE StartedAt: 2025-07-24 15:22:20 -0400 (Thu, 24 Jul 2025) EndedAt: 2025-07-24 15:22:30 -0400 (Thu, 24 Jul 2025) EllapsedTime: 9.5 seconds RetCode: 0 Status: OK