Package: ivygapSE Version: 1.31.0 Maintainer: VJ Carey MaintainerEmail: stvjc at channing.harvard.edu git_url: https://git.bioconductor.org/packages/ivygapSE git_branch: devel git_last_commit: 09ea491 git_last_commit_date: 2025-04-15 11:15:45 -0400 (Tue, 15 Apr 2025)