Package: iterativeBMAsurv Version: 1.67.0 Command: /Library/Frameworks/R.framework/Resources/bin/R CMD INSTALL iterativeBMAsurv StartedAt: 2025-07-04 15:03:29 -0400 (Fri, 04 Jul 2025) EndedAt: 2025-07-04 15:03:32 -0400 (Fri, 04 Jul 2025) EllapsedTime: 2.7 seconds RetCode: 0 Status: OK