Package: iterativeBMAsurv Version: 1.67.0 Command: /Library/Frameworks/R.framework/Resources/bin/R CMD build --keep-empty-dirs --no-resave-data iterativeBMAsurv StartedAt: 2025-07-04 16:42:11 -0400 (Fri, 04 Jul 2025) EndedAt: 2025-07-04 16:42:20 -0400 (Fri, 04 Jul 2025) EllapsedTime: 9.1 seconds RetCode: 0 Status: OK PackageFile: iterativeBMAsurv_1.67.0.tar.gz PackageFileSize: 197.5 KiB