Package: iterativeBMAsurv Version: 1.67.0 Command: rm -rf iterativeBMAsurv.buildbin-libdir && mkdir iterativeBMAsurv.buildbin-libdir && /Users/biocbuild/BBS/utils/build-universal.sh iterativeBMAsurv_1.67.0.tar.gz /Library/Frameworks/R.framework/Resources/bin/R iterativeBMAsurv.buildbin-libdir StartedAt: 2025-07-04 22:22:36 -0400 (Fri, 04 Jul 2025) EndedAt: 2025-07-04 22:22:39 -0400 (Fri, 04 Jul 2025) EllapsedTime: 3.1 seconds RetCode: 0 Status: OK PackageFile: iterativeBMAsurv_1.67.0.tgz PackageFileSize: 275.8 KiB