Package: isomiRs Version: 1.37.0 Command: /home/biocbuild/R/R/bin/R CMD check --install=check:isomiRs.install-out.txt --library=/home/biocbuild/R/R/site-library --no-vignettes --timings isomiRs_1.37.0.tar.gz StartedAt: 2025-07-22 08:36:09 -0000 (Tue, 22 Jul 2025) EndedAt: 2025-07-22 08:42:04 -0000 (Tue, 22 Jul 2025) EllapsedTime: 355.5 seconds RetCode: 0 Status: OK CheckDir: isomiRs.Rcheck Warnings: 0