Package: isomiRs Version: 1.37.0 Command: F:\biocbuild\bbs-3.22-bioc\R\bin\R.exe CMD check --no-multiarch --install=check:isomiRs.install-out.txt --library=F:\biocbuild\bbs-3.22-bioc\R\library --no-vignettes --timings isomiRs_1.37.0.tar.gz StartedAt: 2025-06-19 03:21:25 -0400 (Thu, 19 Jun 2025) EndedAt: 2025-06-19 03:27:12 -0400 (Thu, 19 Jun 2025) EllapsedTime: 346.3 seconds RetCode: 0 Status: OK CheckDir: isomiRs.Rcheck Warnings: 0