Package: isomiRs Version: 1.37.0 Command: /Library/Frameworks/R.framework/Resources/bin/R CMD build --keep-empty-dirs --no-resave-data isomiRs StartedAt: 2025-07-14 16:43:01 -0400 (Mon, 14 Jul 2025) EndedAt: 2025-07-14 16:43:34 -0400 (Mon, 14 Jul 2025) EllapsedTime: 33.3 seconds RetCode: 1 Status: ERROR PackageFile: None PackageFileSize: NA