Package: isomiRs Version: 1.37.0 Command: rm -rf isomiRs.buildbin-libdir && mkdir isomiRs.buildbin-libdir && /Users/biocbuild/BBS/utils/build-universal.sh isomiRs_1.37.0.tar.gz /Library/Frameworks/R.framework/Resources/bin/R isomiRs.buildbin-libdir StartedAt: 2025-06-18 22:26:19 -0400 (Wed, 18 Jun 2025) EndedAt: 2025-06-18 22:26:40 -0400 (Wed, 18 Jun 2025) EllapsedTime: 20.5 seconds RetCode: 0 Status: OK PackageFile: isomiRs_1.37.0.tgz PackageFileSize: 2.489 MiB