Package: isobar Version: 1.55.0 Command: /home/biocbuild/R/R/bin/R CMD INSTALL isobar StartedAt: 2025-06-26 20:39:54 -0000 (Thu, 26 Jun 2025) EndedAt: 2025-06-26 20:40:35 -0000 (Thu, 26 Jun 2025) EllapsedTime: 41.1 seconds RetCode: 0 Status: OK