Package: isobar Version: 1.55.0 Command: /home/biocbuild/R/R/bin/R CMD build --keep-empty-dirs --no-resave-data isobar StartedAt: 2025-06-27 00:23:05 -0000 (Fri, 27 Jun 2025) EndedAt: 2025-06-27 00:24:32 -0000 (Fri, 27 Jun 2025) EllapsedTime: 87.0 seconds RetCode: 0 Status: OK PackageFile: isobar_1.55.0.tar.gz PackageFileSize: 2.782 MiB