Package: isobar Version: 1.55.0 Command: F:\biocbuild\bbs-3.22-bioc\R\bin\R.exe CMD INSTALL isobar StartedAt: 2025-07-11 15:54:34 -0400 (Fri, 11 Jul 2025) EndedAt: 2025-07-11 15:56:20 -0400 (Fri, 11 Jul 2025) EllapsedTime: 106.2 seconds RetCode: 0 Status: OK