Package: isobar Version: 1.55.0 Command: F:\biocbuild\bbs-3.22-bioc\R\bin\R.exe CMD check --no-multiarch --install=check:isobar.install-out.txt --library=F:\biocbuild\bbs-3.22-bioc\R\library --no-vignettes --timings isobar_1.55.0.tar.gz StartedAt: 2025-07-12 03:09:51 -0400 (Sat, 12 Jul 2025) EndedAt: 2025-07-12 03:14:13 -0400 (Sat, 12 Jul 2025) EllapsedTime: 261.3 seconds RetCode: 0 Status: WARNINGS CheckDir: isobar.Rcheck Warnings: 3