Package: isobar Version: 1.55.0 Command: chmod a+r isobar -R && F:\biocbuild\bbs-3.22-bioc\R\bin\R.exe CMD build --keep-empty-dirs --no-resave-data isobar StartedAt: 2025-07-11 19:51:47 -0400 (Fri, 11 Jul 2025) EndedAt: 2025-07-11 19:54:26 -0400 (Fri, 11 Jul 2025) EllapsedTime: 158.7 seconds RetCode: 0 Status: OK PackageFile: isobar_1.55.0.tar.gz PackageFileSize: 2.602 MiB