Package: isobar Version: 1.55.0 Command: rm -rf isobar.buildbin-libdir && mkdir isobar.buildbin-libdir && F:\biocbuild\bbs-3.22-bioc\R\bin\R.exe CMD INSTALL --build --library=isobar.buildbin-libdir isobar_1.55.0.tar.gz StartedAt: 2025-07-12 09:07:02 -0400 (Sat, 12 Jul 2025) EndedAt: 2025-07-12 09:09:30 -0400 (Sat, 12 Jul 2025) EllapsedTime: 148.0 seconds RetCode: 0 Status: OK PackageFile: isobar_1.55.0.zip PackageFileSize: 3.74 MiB