Package: isobar Version: 1.55.0 Command: /home/biocbuild/bbs-3.22-bioc/R/bin/R CMD INSTALL isobar StartedAt: 2025-07-01 15:24:51 -0400 (Tue, 01 Jul 2025) EndedAt: 2025-07-01 15:25:20 -0400 (Tue, 01 Jul 2025) EllapsedTime: 28.9 seconds RetCode: 0 Status: OK