Package: isobar Version: 1.55.0 Command: /home/biocbuild/bbs-3.22-bioc/R/bin/R CMD check --install=check:isobar.install-out.txt --library=/home/biocbuild/bbs-3.22-bioc/R/site-library --timings isobar_1.55.0.tar.gz StartedAt: 2025-07-01 23:26:50 -0400 (Tue, 01 Jul 2025) EndedAt: 2025-07-01 23:30:54 -0400 (Tue, 01 Jul 2025) EllapsedTime: 244.3 seconds RetCode: 0 Status: WARNINGS CheckDir: isobar.Rcheck Warnings: 2