Package: isobar Version: 1.55.0 Command: /Library/Frameworks/R.framework/Resources/bin/R CMD INSTALL isobar StartedAt: 2025-07-07 15:22:23 -0400 (Mon, 07 Jul 2025) EndedAt: 2025-07-07 15:23:04 -0400 (Mon, 07 Jul 2025) EllapsedTime: 40.8 seconds RetCode: 0 Status: OK