Package: isobar Version: 1.55.0 Command: /Library/Frameworks/R.framework/Resources/bin/R CMD build --keep-empty-dirs --no-resave-data isobar StartedAt: 2025-07-07 17:21:21 -0400 (Mon, 07 Jul 2025) EndedAt: 2025-07-07 17:22:55 -0400 (Mon, 07 Jul 2025) EllapsedTime: 93.9 seconds RetCode: 0 Status: OK PackageFile: isobar_1.55.0.tar.gz PackageFileSize: 2.766 MiB