Package: isobar Version: 1.55.0 Command: /Library/Frameworks/R.framework/Resources/bin/R CMD check --install=check:isobar.install-out.txt --library=/Library/Frameworks/R.framework/Resources/library --no-vignettes --timings isobar_1.55.0.tar.gz StartedAt: 2025-06-29 19:49:51 -0400 (Sun, 29 Jun 2025) EndedAt: 2025-06-29 19:51:08 -0400 (Sun, 29 Jun 2025) EllapsedTime: 77.1 seconds RetCode: 0 Status: WARNINGS CheckDir: isobar.Rcheck Warnings: 2