Package: isobar Version: 1.55.0 Command: /Library/Frameworks/R.framework/Resources/bin/R CMD build --keep-empty-dirs --no-resave-data isobar StartedAt: 2025-06-29 16:43:44 -0400 (Sun, 29 Jun 2025) EndedAt: 2025-06-29 16:44:20 -0400 (Sun, 29 Jun 2025) EllapsedTime: 36.4 seconds RetCode: 0 Status: OK PackageFile: isobar_1.55.0.tar.gz PackageFileSize: 2.77 MiB