Package: islify Version: 1.1.0 Command: /home/biocbuild/R/R/bin/R CMD check --install=check:islify.install-out.txt --library=/home/biocbuild/R/R/site-library --no-vignettes --timings islify_1.1.0.tar.gz StartedAt: 2025-07-22 08:34:27 -0000 (Tue, 22 Jul 2025) EndedAt: 2025-07-22 08:36:09 -0000 (Tue, 22 Jul 2025) EllapsedTime: 101.1 seconds RetCode: 0 Status: OK CheckDir: islify.Rcheck Warnings: 0