Package: islify Version: 1.1.0 Command: F:\biocbuild\bbs-3.22-bioc\R\bin\R.exe CMD INSTALL islify StartedAt: 2025-07-24 15:49:42 -0400 (Thu, 24 Jul 2025) EndedAt: 2025-07-24 15:50:10 -0400 (Thu, 24 Jul 2025) EllapsedTime: 28.3 seconds RetCode: 0 Status: OK