Package: islify Version: 1.1.0 Command: chmod a+r islify -R && F:\biocbuild\bbs-3.22-bioc\R\bin\R.exe CMD build --keep-empty-dirs --no-resave-data islify StartedAt: 2025-07-24 20:06:27 -0400 (Thu, 24 Jul 2025) EndedAt: 2025-07-24 20:07:02 -0400 (Thu, 24 Jul 2025) EllapsedTime: 34.7 seconds RetCode: 0 Status: OK PackageFile: islify_1.1.0.tar.gz PackageFileSize: 3.043 MiB