Package: islify Version: 1.1.0 Command: rm -rf islify.buildbin-libdir && mkdir islify.buildbin-libdir && F:\biocbuild\bbs-3.22-bioc\R\bin\R.exe CMD INSTALL --build --library=islify.buildbin-libdir islify_1.1.0.tar.gz StartedAt: 2025-07-25 09:31:51 -0400 (Fri, 25 Jul 2025) EndedAt: 2025-07-25 09:32:18 -0400 (Fri, 25 Jul 2025) EllapsedTime: 26.4 seconds RetCode: 0 Status: OK PackageFile: islify_1.1.0.zip PackageFileSize: 2.083 MiB