Package: iscream Version: 1.1.1 Command: /home/biocbuild/bbs-3.23-bioc/R/bin/R CMD check --install=check:iscream.install-out.txt --library=/home/biocbuild/bbs-3.23-bioc/R/site-library --timings iscream_1.1.1.tar.gz StartedAt: 2025-11-10 00:33:13 -0500 (Mon, 10 Nov 2025) EndedAt: 2025-11-10 00:35:09 -0500 (Mon, 10 Nov 2025) EllapsedTime: 116.2 seconds RetCode: 0 Status: OK CheckDir: iscream.Rcheck Warnings: 0