Package: ipdDb Version: 1.27.0 Command: /home/biocbuild/R/R/bin/R CMD INSTALL ipdDb StartedAt: 2025-07-07 20:33:07 -0000 (Mon, 07 Jul 2025) EndedAt: 2025-07-07 20:33:27 -0000 (Mon, 07 Jul 2025) EllapsedTime: 20.1 seconds RetCode: 0 Status: OK