Package: ipdDb Version: 1.27.0 Command: /home/biocbuild/R/R/bin/R CMD build --keep-empty-dirs --no-resave-data ipdDb StartedAt: 2025-07-08 00:16:46 -0000 (Tue, 08 Jul 2025) EndedAt: 2025-07-08 00:17:08 -0000 (Tue, 08 Jul 2025) EllapsedTime: 22.0 seconds RetCode: 0 Status: OK PackageFile: ipdDb_1.27.0.tar.gz PackageFileSize: 21.68 KiB