Package: ipdDb Version: 1.27.0 Command: F:\biocbuild\bbs-3.22-bioc\R\bin\R.exe CMD INSTALL ipdDb StartedAt: 2025-07-22 16:24:02 -0400 (Tue, 22 Jul 2025) EndedAt: 2025-07-22 16:24:31 -0400 (Tue, 22 Jul 2025) EllapsedTime: 29.4 seconds RetCode: 0 Status: OK