Package: ipdDb Version: 1.27.0 Command: chmod a+r ipdDb -R && F:\biocbuild\bbs-3.22-bioc\R\bin\R.exe CMD build --keep-empty-dirs --no-resave-data ipdDb StartedAt: 2025-07-22 19:51:59 -0400 (Tue, 22 Jul 2025) EndedAt: 2025-07-22 19:52:34 -0400 (Tue, 22 Jul 2025) EllapsedTime: 35.1 seconds RetCode: 0 Status: OK PackageFile: ipdDb_1.27.0.tar.gz PackageFileSize: 21.13 KiB