Package: ipdDb Version: 1.27.0 Command: rm -rf ipdDb.buildbin-libdir && mkdir ipdDb.buildbin-libdir && F:\biocbuild\bbs-3.22-bioc\R\bin\R.exe CMD INSTALL --build --library=ipdDb.buildbin-libdir ipdDb_1.27.0.tar.gz StartedAt: 2025-07-23 09:22:22 -0400 (Wed, 23 Jul 2025) EndedAt: 2025-07-23 09:23:01 -0400 (Wed, 23 Jul 2025) EllapsedTime: 38.2 seconds RetCode: 0 Status: OK PackageFile: ipdDb_1.27.0.zip PackageFileSize: 403 KiB