Package: ipdDb Version: 1.27.0 Command: /home/biocbuild/bbs-3.22-bioc/R/bin/R CMD INSTALL ipdDb StartedAt: 2025-07-02 15:29:50 -0400 (Wed, 02 Jul 2025) EndedAt: 2025-07-02 15:30:09 -0400 (Wed, 02 Jul 2025) EllapsedTime: 18.1 seconds RetCode: 0 Status: OK