Package: ipdDb Version: 1.27.0 Command: /Library/Frameworks/R.framework/Resources/bin/R CMD check --install=check:ipdDb.install-out.txt --library=/Library/Frameworks/R.framework/Resources/library --no-vignettes --timings ipdDb_1.27.0.tar.gz StartedAt: 2025-07-04 21:16:38 -0400 (Fri, 04 Jul 2025) EndedAt: 2025-07-04 21:19:23 -0400 (Fri, 04 Jul 2025) EllapsedTime: 164.9 seconds RetCode: 0 Status: OK CheckDir: ipdDb.Rcheck Warnings: 0