Package: ipdDb Version: 1.27.0 Command: /Library/Frameworks/R.framework/Resources/bin/R CMD build --keep-empty-dirs --no-resave-data ipdDb StartedAt: 2025-07-03 17:19:54 -0400 (Thu, 03 Jul 2025) EndedAt: 2025-07-03 17:20:13 -0400 (Thu, 03 Jul 2025) EllapsedTime: 19.5 seconds RetCode: 0 Status: OK PackageFile: ipdDb_1.27.0.tar.gz PackageFileSize: 21.05 KiB