Package: ipdDb Version: 1.27.0 Maintainer: Steffen Klasberg MaintainerEmail: klasberg at dkms-lab.de git_url: https://git.bioconductor.org/packages/ipdDb git_branch: devel git_last_commit: c3cf6cc git_last_commit_date: 2025-04-15 11:35:07 -0400 (Tue, 15 Apr 2025)