Package: interacCircos Version: 1.19.0 Command: /home/biocbuild/R/R/bin/R CMD build --keep-empty-dirs --no-resave-data interacCircos StartedAt: 2025-07-18 00:35:18 -0000 (Fri, 18 Jul 2025) EndedAt: 2025-07-18 00:35:28 -0000 (Fri, 18 Jul 2025) EllapsedTime: 10.0 seconds RetCode: 0 Status: OK PackageFile: interacCircos_1.19.0.tar.gz PackageFileSize: 878.6 KiB